BEGIN:VCALENDAR
VERSION:2.0
CALSCALE:GREGORIAN
BEGIN:VEVENT
CREATED:20231108T030226Z
UID:6516
DTSTART;TZID=America/Chicago:20240329T190000
DTEND;TZID=America/Chicago:20240331T160000
DTSTAMP:20260422T142902Z
LOCATION:Lawrence Arts Center - 940 New Hampshire Street\, Lawrence\, KS 66044
DESCRIPTION:<h6 data-pm-slice="1 1 []">Celebrating <a href="https://pflag.org/transgender-day-of-visibility/">Transgender Day of Visibility</a></h6> <p data-pm-slice="1 1 []">Prepare to laugh and cry with Jay in this illuminating edutainment performance! After nearly 30 years of LGBTQ+ education and activism, Jay has created a theatre experience that’s raw and real, while sharing in the fun and silliness of life along the way. This 45-minute show is designed to help audiences notice their own assumptions about sex and gender, and leave with new insights. Part stand-up, part storytelling, 100% authentic, vulnerable, and funny....welcome to the <em>Gender Reveal Party</em>!</p> Join us for a short talk-back after the show. *ASL (American Sign Language) interpretation will be available for every performance. This show is for mature audiences and contains mature language. <a class="btn" href="https://lawrenceartscenter.org/performance-programs/jay-pryors-gender-reveal-party/">VIEW THE VIRTUAL PROGRAM</a> <a class="btn-secondary" href="https://lawrenceartscenter.org/new-ticketing-transparency-policy/" target="_blank" rel="noopener">TICKETING TRANSPARENCY POLICY</a>
SUMMARY:Jay Pryor’s Gender Reveal Party: A One-Human Show
ORGANIZER:Lawrence Arts Center
URL;VALUE=URI:https://lawrenceartscenter.org/event/jay-pryors-gender-reveal-party-a-one-human-show/
TRANSP:OPAQUE
BEGIN:VALARM
ACTION:DISPLAY
TRIGGER;VALUE=DATE-TIME:20240329T180000
DESCRIPTION:Reminder for Free State Festival 2026 Lineup Announcement
END:VALARM
END:VEVENT
END:VCALENDAR