BEGIN:VCALENDAR
VERSION:2.0
CALSCALE:GREGORIAN
BEGIN:VEVENT
CREATED:20240318T194028Z
UID:11010
DTSTART;TZID=America/Chicago:20240329T180000
DTEND;TZID=America/Chicago:20240329T210000
DTSTAMP:20260422T123419Z
LOCATION:  
DESCRIPTION:Join us on Friday, March 29, from 6 pm - 9 pm for Final Friday. <strong>Celebrate and engage with this year's Art Auction Exhibition!</strong> All silent auction artwork is available for bidding now through April 13! <a class="btn-secondary" href="https://ruralpearl.com/blog/">Angie Pickman</a> is this year's Featured Artist! <a class="btn" href="https://lawrenceartscenter.org/event/annual-art-auction-2024/" target="_blank" rel="noopener">2024 ART AUCTION</a> <strong>Jay Pryor's Gender Reveal Party: A One-Human Show</strong> opens on the LAC Main Stage at 7 pm! <a class="btn" href="https://lawrenceartscenter.org/event/jay-pryors-gender-reveal-party-a-one-human-show/">GET TICKETS</a> <p data-pm-slice="1 1 []"><strong>The Adult Improv Performance Troupe</strong> will be performing at 7:30 pm in the Black Box Theatre! The Troupe is led by Leah Towle and it is guaranteed to be a night of laughs! Grab a beverage in the lobby and come on down to the Black Box Theatre for an evening of zany comedy. Free and open to the public, $10 suggested donation.</p>
SUMMARY:Final Friday | March 29
ORGANIZER:Lawrence Arts Center
URL;VALUE=URI:https://lawrenceartscenter.org/event/final-friday-march-29/
TRANSP:OPAQUE
BEGIN:VALARM
ACTION:DISPLAY
TRIGGER;VALUE=DATE-TIME:20240329T170000
DESCRIPTION:Reminder for Free State Festival 2026 Lineup Announcement
END:VALARM
END:VEVENT
END:VCALENDAR