BEGIN:VCALENDAR
VERSION:2.0
CALSCALE:GREGORIAN
BEGIN:VEVENT
CREATED:20231130T035321Z
UID:7968
DTSTART;TZID=America/Chicago:20240210T110000
DTEND;TZID=America/Chicago:20240210T130000
DTSTAMP:20260419T131230Z
LOCATION:Lawrence Arts Center - 940 New Hampshire St. \, Lawrence\, Kansas  66044
DESCRIPTION:<h6>ART FOR ALL | Pottery Wheel Patterns & Paper Pots!</h6> Create pottery-inspired art during our annual Souper Bowl event! Use the potter's wheel to make hypnotizing drawings and paintings. We'll also learn about the different "body parts" of a pot to make cut-paper vessels! <strong>DETAILS</strong> Guided workshop Saturday, Feb. 10 | 11 am - 1 pm Main Lobby FREE
SUMMARY:ART FOR ALL | Pottery Wheel Patterns & Paper Pots!
ORGANIZER:Lawrence Arts Center
URL;VALUE=URI:https://lawrenceartscenter.org/event/art-for-all-pottery-wheel-paper-pots/
TRANSP:OPAQUE
BEGIN:VALARM
ACTION:DISPLAY
TRIGGER;VALUE=DATE-TIME:20240210T100000
DESCRIPTION:Reminder for Free State Festival 2026 Lineup Announcement
END:VALARM
END:VEVENT
END:VCALENDAR