BEGIN:VCALENDAR
VERSION:2.0
CALSCALE:GREGORIAN
BEGIN:VEVENT
CREATED:20231108T032438Z
UID:6508
DTSTART;TZID=America/Chicago:20240118T110000
DTEND;TZID=America/Chicago:20240128T130000
DTSTAMP:20260424T120307Z
LOCATION:Lawrence Arts Center - 940 New Hampshire Street\, Lawrence\, KS 66044
DESCRIPTION:<h6 data-pm-slice="1 1 []"><strong>Theatre & Dance for the Very Young presents Where Wesley Walks</strong></h6> <p data-pm-slice="1 1 []">Imagination springs to life whenever Wesley walks! Get ready for an action-packed journey where we will hop, shuffle, roll, and discover surprises in this play made specifically for children ages two to six.</p> This was created through a Play Lab series where we ask questions connecting different movements to whimsical stories. Perhaps when Wesley jumps, sharks emerge from the ocean. Can the sharks be directed with Wesley’s jumping? Or will Wesley dream up a new movement to send the sharks on their way? Join us to see <em>Where Wesley Walks</em> and explore what you can do when you move, too! Theatre & Dance for the Very Young productions are interactive and designed for very young children and their families. All ages are welcome. This play was developed in Fall 2023 Playlabs with Director and Devisor Leah Towle. <a class="btn-secondary" href="https://lawrenceartscenter.org/new-ticketing-transparency-policy/" target="_blank" rel="noopener">Ticketing Transparency Policy</a>   If you are attending the <strong>6 pm performance on Fri, Jan. 26th OR 11am performance on Sat, Jan. 27th</strong>, please note: This year LAC and KU's department of Curriculum and Teaching has formed a community partnership for research. For these performances on  1/26 at 6 pm, and 1/27 at 11 am, the LAC will be recording the performances as part of our normal performance curation process. The videos of the performances will be shared with the research team from KU. The recordings will be owned and maintained by the LAC. Since the recordings <strong>may</strong> capture audience members interacting with the performance, we would like our audience members to be aware of 1) the use of recording, 2) the sharing of the recording with researchers, and 3) the opportunity to document consent (as per research norms). Research team members will be present at the performances to answer any questions. For any questions please contact Jaclyn Dudek <a href="mailto:jdudek@ku.edu">jdudek@ku.edu</a> Thank you for supporting research that advocates for innovative arts-based programming!
SUMMARY:Where Wesley Walks | Theatre & Dance for the Very Young
ORGANIZER:Lawrence Arts Center
URL;VALUE=URI:https://lawrenceartscenter.org/event/where-wesley-walks-theatre-dance-for-the-very-young/
TRANSP:OPAQUE
BEGIN:VALARM
ACTION:DISPLAY
TRIGGER;VALUE=DATE-TIME:20240118T100000
DESCRIPTION:Reminder for Free State Festival 2026 Lineup Announcement
END:VALARM
END:VEVENT
END:VCALENDAR