BEGIN:VCALENDAR
VERSION:2.0
CALSCALE:GREGORIAN
BEGIN:VEVENT
CREATED:20260421T222454Z
UID:42613
DTSTART;TZID=America/Chicago:20260502T190000
DTEND;TZID=America/Chicago:20260502T210000
DTSTAMP:20260422T032513Z
LOCATION:Lawrence Arts Center - 940 New Hampshire St\, Lawrence\, KS 66044
DESCRIPTION:Coming to you right after May Day at the Lawrence Arts Center is Harlan County USA, the Oscar award winning documentary from 1976. Celebrating 50 years of inspiring workers into action, Harlan County USA tells the story of a Kentucky town who got fed up with being pushed around by Duke Power Company. In 1973, when denied a contract, 180 miners (and their wives, mothers, and sisters) took to the protest lines for 13 months.
SUMMARY:Film | Harlan County USA – Hosted by Lawrence Film Club
ORGANIZER:Lawrence Arts Center
URL;VALUE=URI:https://lawrenceartscenter.org/event/film-harlan-county-usa-hosted-by-lawrence-film-club/
TRANSP:OPAQUE
BEGIN:VALARM
ACTION:DISPLAY
TRIGGER;VALUE=DATE-TIME:20260502T180000
DESCRIPTION:Reminder for Free State Festival 2026 Lineup Announcement
END:VALARM
END:VEVENT
END:VCALENDAR