BEGIN:VCALENDAR
VERSION:2.0
CALSCALE:GREGORIAN
BEGIN:VEVENT
CREATED:20260413T193302Z
UID:42116
DTSTART;TZID=America/Chicago:20260710T190000
DTEND;TZID=America/Chicago:20260710T200000
DTSTAMP:20260419T121455Z
LOCATION:  
DESCRIPTION:<h6>Apply to be a part of the 2026 School of Dance Choreographer's Showcase!</h6> Calling all movers ages ten to adult to apply for the annual School of Dance Choreographer’s Showcase! This event provides a venue for both new and experienced choreographers to exhibit their work in a supportive and encouraging environment. Choreographers must apply and be approved before their work is eligible to be performed. Applying choreographers must adhere to the choreographic guidelines listed below. There is no cost to apply and perform if selected. <strong>Timeline</strong> June 26 | Online Applications Deadline July 10 | Choreographer's Showcase at 7pm <strong>Choreographic Guidelines</strong> <ul> <li>Duration should not exceed  2mins, 30 secs, unless approved by the Dance Program Director.</li> <li>Choreography, music, and costuming must be appropriate for an all-age audience. Nudity, curse words, or offensive material will not be tolerated.</li> <li>Choreographers are responsible for providing their own costumes and props.</li> <li>Choreographers must purchase their own music and submit to event staff.</li> <li>Solos, small/large groups, and family dances are encouraged.</li> <li>Choreographers are provided a studio space on a first come, first-serve basis. Please note that summer camps/classes are given first priority.</li> </ul> For more details, contact the School of Dance at dance@lawrenceartscenter.org
SUMMARY:2026 School of Dance Summer Choreographer’s Showcase
ORGANIZER:Lawrence Arts Center
URL;VALUE=URI:https://lawrenceartscenter.org/event/2026-school-of-dance-summer-choreographers-showcase/
TRANSP:OPAQUE
BEGIN:VALARM
ACTION:DISPLAY
TRIGGER;VALUE=DATE-TIME:20260710T180000
DESCRIPTION:Reminder for Free State Festival 2026 Lineup Announcement
END:VALARM
END:VEVENT
END:VCALENDAR