BEGIN:VCALENDAR
VERSION:2.0
CALSCALE:GREGORIAN
BEGIN:VEVENT
CREATED:20260330T154135Z
UID:40970
DTSTART;TZID=America/Chicago:20260626T180000
DTEND;TZID=America/Chicago:20260801T200000
DTSTAMP:20260425T223711Z
LOCATION:Lawrence Arts Center Gallery - 940 New Hampshire\, Lawrence\, KS 66044
DESCRIPTION:<h6>2025-2026 Ceramics Artist in Residence</h6> <i><span style="font-weight: 400;">Be-Longing</span></i><span style="font-weight: 400;"> explores the human desire for community and connection through handmade pottery, celebrating the authenticity and tactile imperfections of the hand.</span> <p class="preFlex flexIn">Central to Jason's practice is an exploration of community and connection through tactile mark-making. His ceramic vessels serve as vehicles for connecting with others: objects meant to be held, carrying the traces of his hands into others' hands. Through working with clay and engaging in collaborative public participation, Jason emphasizes the physicality of the hand and the intimacy embedded in each gesture. This approach allows his work to become an archive of the uniqueness and evidence of the human hand.</p> <p class="preFlex flexIn">This focus on the hand is further amplified through soda firing, a process that accentuates surface, indentation, and irregularity. The resulting textures heighten both tactile and visual engagement, allowing each vessel to emerge with its own character. Like people, no two pieces are the same; each bears its own idiosyncrasies, shaped by touch, process, and chance.</p> <b>Final Friday: June 26 and July 31, 6-9 pm</b> <b>INSIGHT Art Talk | Wednesday, July 8, 7 pm</b>
SUMMARY:Jason Wang | Be-Longing
ORGANIZER:Lawrence Arts Center
URL;VALUE=URI:https://lawrenceartscenter.org/event/jason-wang-be-longing/
TRANSP:OPAQUE
BEGIN:VALARM
ACTION:DISPLAY
TRIGGER;VALUE=DATE-TIME:20260626T170000
DESCRIPTION:Reminder for Free State Festival 2026 Lineup Announcement
END:VALARM
END:VEVENT
END:VCALENDAR