BEGIN:VCALENDAR
VERSION:2.0
CALSCALE:GREGORIAN
BEGIN:VEVENT
CREATED:20251113T184820Z
UID:32289
DTSTART;TZID=America/Chicago:20251128T170000
DTEND;TZID=America/Chicago:20251129T090000
DTSTAMP:20260425T161556Z
LOCATION:Lawrence Arts Center - 940 New Hampshire St.\, Lawrence\, Kansas 66044
DESCRIPTION:<p data-pm-slice="1 1 []">In 1988, the Bizarre Bazaar was born in the home of Nan Rembarger, one of the founding mothers, along with Dixie Lubin, Jenn Veerkamp, Laura Ramberg, Ardys Ramberg, Nancy Hubble and Paula Ware. They often did art together and decided to have an open house to sell their art, especially their quirky art, thus the name.</p> In the early 90's they moved to the Lawrence Art Center when it was in the Carnegie Building, and followed the center to the new building where it happens to this day. We want to strive to continue the spirit of artists getting together and putting on an open house, even if the house is much larger. Nan calls it the “hippie love vibe” which started this whole show. Bizarre Bazaar takes place Friday evening (5-9 pm) and Saturday (9 am-5 pm) of Thanksgiving weekend. It’s a great place to start holiday shopping and to support local artists.
SUMMARY:Bizarre Bazaar 2025
ORGANIZER:Lawrence Arts Center
URL;VALUE=URI:https://lawrenceartscenter.org/event/bizarre-bazaar-2025/
TRANSP:OPAQUE
BEGIN:VALARM
ACTION:DISPLAY
TRIGGER;VALUE=DATE-TIME:20251128T160000
DESCRIPTION:Reminder for Free State Festival 2026 Lineup Announcement
END:VALARM
END:VEVENT
END:VCALENDAR