BEGIN:VCALENDAR
VERSION:2.0
CALSCALE:GREGORIAN
BEGIN:VEVENT
CREATED:20251110T210250Z
UID:30323
DTSTART;TZID=America/Chicago:20260403T190000
DTEND;TZID=America/Chicago:20260404T170000
DTSTAMP:20260421T132429Z
LOCATION:Lawrence Arts Center - 940 New Hampshire St.\, Lawrence\, Kansas 66044
DESCRIPTION:<span style="font-weight: 400;">Join Lawrence Ballet Theatre as we celebrate 15 years of dance!</span> <p data-pm-slice="1 1 []"><span style="font-weight: 400;">Founded in the fall of 2010 by Cynthia Crews, Lawrence Ballet Theatre has presented its annual </span><i><span style="font-weight: 400;">Emergence</span></i><span style="font-weight: 400;"> concert each year, highlighting both classical ballet and original contemporary choreography. This season, LBT will revisit audience favorites from past concerts while continuing the tradition of showcasing exciting new works. Whether you’ve been part of LBT’s journey over the years or are experiencing it for the first time, this performance promises an inspiring celebration of the best in pre-professional dance.</span></p> <span style="font-weight: 400;">Friday, April 3 | 7 pm</span> <span style="font-weight: 400;">Saturday, April 4 | 5 pm</span> <ul> <li>Please join us after Saturday's performance for a reception. Enjoy a drink from the bar, have a snack, and celebrate 15 wonderful years of Lawrence Ballet Theatre!</li> </ul> <div></div> <h6>Event Information:</h6> <ul> <li>Appropriate for all ages</li> <li>Duration: 85 minutes with a 15-minute intermission</li> <li>Doors open 30 minutes prior to the start of the performance</li> <li>Concessions available</li> </ul> For information about accessibility, please reach out to boxoffice@lawrenceartscenter.org
SUMMARY:Lawrence Ballet Theatre presents Emergence | 15th Year Celebration
ORGANIZER:Lawrence Arts Center
URL;VALUE=URI:https://lawrenceartscenter.org/event/lbtemergence/
TRANSP:OPAQUE
BEGIN:VALARM
ACTION:DISPLAY
TRIGGER;VALUE=DATE-TIME:20260403T180000
DESCRIPTION:Reminder for Free State Festival 2026 Lineup Announcement
END:VALARM
END:VEVENT
END:VCALENDAR