BEGIN:VCALENDAR
VERSION:2.0
CALSCALE:GREGORIAN
BEGIN:VEVENT
CREATED:20250716T165127Z
UID:25403
DTSTART;TZID=America/Chicago:20250912T170000
DTEND;TZID=America/Chicago:20251025T200000
DTSTAMP:20260423T084714Z
LOCATION:Lawrence Arts Center Gallery - 940 New Hampshire\, Lawrence\, KS 66044
DESCRIPTION:<span style="color: #000000;"><em>Selections from The Heritage Collection, 1775-1965</em>,  is a series of large-scale relief prints exploring shared violent legacies, including the histories of the colonial (settler), the colonized, and the forcibly displaced. Each work features a man-made explosion since the War of The American Revolution. The national mythologies of both the United States and Canada bind Walker and her children to all manner of violent birthright, and in <em>The Heritage Collection</em>, these are translated in terms of infrastructure demolitions, bomb tests, artillery strikes, and chemical weapons deployments, sampled from the beginnings of nationhood to the present day. </span> <span style="color: #000000;">Interspersed throughout the exhibition are text panels, selections taken from author and American Civil War veteran Ambrose Bierce’s seminal literary text, <em>Chickamauga</em>, recreated using smoke and stencils. Together, text and image explore how big, often romanticized, historical moments - including war and heroism - influence our shared present. Further, she imagines how the ways of presenting these moments in art can generate meaning for future generations, including, most personally, as a legacy for her children.</span> <span style="color: #008080;"><strong><a style="color: #008080;" href="https://lawrenceartscenter.org/wp-content/uploads/2025/07/Bierce_Chickamauga_for_Gallery.pdf">Read the text that influenced Ericka from journalist, author, poet, and American Civil War veteran Ambrose Bierce’s short story, <em>Chickamauga</em>.</a></strong></span>
SUMMARY:Ericka Walker | Selections from The Heritage Collection, 1775-1965
ORGANIZER:Lawrence Arts Center
URL;VALUE=URI:https://lawrenceartscenter.org/event/ericka-walker-selections-from-the-heritage-collection-1775-1965/
TRANSP:OPAQUE
BEGIN:VALARM
ACTION:DISPLAY
TRIGGER;VALUE=DATE-TIME:20250912T160000
DESCRIPTION:Reminder for Free State Festival 2026 Lineup Announcement
END:VALARM
END:VEVENT
END:VCALENDAR