BEGIN:VCALENDAR
VERSION:2.0
CALSCALE:GREGORIAN
BEGIN:VEVENT
CREATED:20250329T160531Z
UID:19733
DTSTART;TZID=America/Chicago:20250725T190000
DTEND;TZID=America/Chicago:20250726T190000
DTSTAMP:20260419T131245Z
LOCATION:Lawrence Arts Center - 940 New Hampshire St.\, Lawrence\, KS 66044
DESCRIPTION:<h5>A Summer Youth Theatre Production</h5> <span style="font-weight: 400;">From the Tony® and Grammy® award-winning creators of</span><i><span style="font-weight: 400;"> Spring Awakening</span></i><span style="font-weight: 400;">, Steven Sater and Duncan Sheik, and co-written by Jessie Nelson (</span><i><span style="font-weight: 400;">Waitress</span></i><span style="font-weight: 400;">). In the rubble of the London Blitz of World War II, Alice Spencer’s budding teen life is turned upside down, and she and her dear friend Alfred are forced to take shelter in an underground tube station. When the ailing Alfred is quarantined, Alice encourages him to escape with her into their cherished book and journey down the rabbit hole to Wonderland. This musical encourages us all to celebrate the transformational power of the imagination, even in the harshest of times.</span> Content advisement: This play's subject matter includes smoking, drug use and suggestive innuendo.<br style="font-weight: 400;" /><br style="font-weight: 400;" /><br style="font-weight: 400;" /><br style="font-weight: 400;" /><br style="font-weight: 400;" /><br style="font-weight: 400;" /><br style="font-weight: 400;" />
SUMMARY:Alice By Heart
ORGANIZER:Lawrence Arts Center
URL;VALUE=URI:https://lawrenceartscenter.org/event/alicebyheart/
TRANSP:OPAQUE
BEGIN:VALARM
ACTION:DISPLAY
TRIGGER;VALUE=DATE-TIME:20250725T180000
DESCRIPTION:Reminder for Free State Festival 2026 Lineup Announcement
END:VALARM
END:VEVENT
END:VCALENDAR