BEGIN:VCALENDAR
VERSION:2.0
CALSCALE:GREGORIAN
BEGIN:VEVENT
CREATED:20250210T172728Z
UID:18760
DTSTART;TZID=America/Chicago:20250330T080000
DTEND;TZID=America/Chicago:20250430T170000
DTSTAMP:20260423T103547Z
LOCATION:Lawrence Memorial Hospital\, West Campus - 6265 Rock Chalk Drive\, Lawrence\, KS 66049
DESCRIPTION:<span style="color: #000000;">Visit the LMH West Campus at 6265 Rock Chalk Drive to admire works by local artist Angie Pickman! </span> <span style="color: #000000;">Nature continually calls out to our childlike curiosity, should we choose to stop and listen, and invites us to explore all of its wonders. We are often stuck, running on auto-pilot, in our repetitive day-to-day routines and forget that we live in an enchanting natural world that holds more wonder and beauty than one could ever imagine. Angie Pickman attempts to recreate some of that enchantment through detailed hand-cut paper collages, inspiring the viewer to stop and explore and, hopefully, spark some of the same joy that she finds when she is exploring the natural world.</span> <span style="color: #000000;"><strong>Artist Biography</strong></span> <span style="color: #000000;">Angie Pickman is a nationally recognized cut paper artist who combines the art of traditional paper cutting with collage to create intricately detailed works of art and animations. Her work is heavily inspired by her love of nature and the tranquility of the terrain of rural Kansas.</span> <span style="color: #000000;">Pickman has been featured in Midwest Living and Martha Stewart Living magazines, and her animation work appears in Daughters of the Forest, a PBS documentary, in the summer of 2016. In 2018, her first children’s book, Merry Menagerie – Animal Antics from A to Z, was released. She has won numerous awards for her work, including an Independent Music Award for album art. She received her master’s degree in 2004 from Tisch School of the Arts at New York University, where she first learned of the art of silhouette animation artist Lotte Reiniger (1899 – 1981). Reiniger’s style and technique inspired Pickman to set off on the artistic path she continues today.</span> <span style="color: #000000;">“I began cutting paper in 2003 after seeing “The Adventures of Prince Achmed” – a cut paper stop-motion silhouette animation from 1926 by Lotte Reiniger. I had always wanted to be “an artist” – I knew from a very young age that it was my life calling, but it took me a long time to figure out in which medium this would manifest itself. The traditional forms taught in school never felt quite right, but when I saw Lotte’s work, something clicked.”</span> <span style="color: #000000;">See more of Angie’s work on Instagram @angiepickman and  on her website www.ruralpearl.com</span> <span style="color: #000000;"><strong>LMH Health West Campus Gallery</strong></span> <span style="color: #000000;">6265 Rock Chalk Drive</span> <span style="color: #000000;">The gallery is located on the Second Floor near Forward Coffee Shop.</span> <span style="color: #000000;"><strong>Open for public viewing:</strong></span> <span style="color: #000000;">Monday – Friday: 8:00 a.m. to 5:00 p.m.</span>   <span style="color: #000000;"><strong><em>This collaboration between the Lawrence Arts Center and LMH Health is made possible through a grant provided by the Kansas Creative Arts Industry Commission and the National Endowment for the Arts. </em></strong></span>
SUMMARY:Angie Pickman | New Cuts: Hand Cut Paper Collage | LMH Healing Arts Collaborative, West Campus
ORGANIZER:Lawrence Arts Center
URL;VALUE=URI:https://lawrenceartscenter.org/event/angie-pickman-new-cuts-hand-cut-paper-collage-lmh-healing-arts-collaborative-west-campu/
TRANSP:OPAQUE
BEGIN:VALARM
ACTION:DISPLAY
TRIGGER;VALUE=DATE-TIME:20250330T070000
DESCRIPTION:Reminder for Free State Festival 2026 Lineup Announcement
END:VALARM
END:VEVENT
END:VCALENDAR