BEGIN:VCALENDAR
VERSION:2.0
CALSCALE:GREGORIAN
BEGIN:VEVENT
CREATED:20241125T215333Z
UID:17297
DTSTART;TZID=America/Chicago:20241212T190000
DTEND;TZID=America/Chicago:20241212T210000
DTSTAMP:20260421T074838Z
LOCATION:Lawrence Arts Center Main Stage - 940 New Hampshire St\, Lawrence\, Kansas 66044
DESCRIPTION:<p data-pm-slice="1 1 []">Experience the sensation and charm of the Lawrence Arts Center’s original production. A winter family favorite, this ballet is based on E.T.A. Hoffman’s original story, set in Kansas during the Civil War. Witness the magic and wonder of this story as Drosselmeyer and Clara defeat the Mouse King and liberate the Nutcracker from his enchanted form.</p> Please note photographer, Ann Dean, will be taking pictures at the front of the house during the performance. Cast members will be sent via email a promo code to receive one complimentary ticket to the dress rehearsal. Last day to redeem promo code is Tuesday, Dec. 10. Additional tickets can be purchased for $15 each.
SUMMARY:Dress Rehearsal | Lawrence Art Center’s The Nutcracker, A Kansas Ballet 2024
ORGANIZER:Lawrence Arts Center
URL;VALUE=URI:https://lawrenceartscenter.org/event/dress-rehearsal-lawrence-art-centers-the-nutcracker-a-kansas-ballet-2024/
TRANSP:OPAQUE
BEGIN:VALARM
ACTION:DISPLAY
TRIGGER;VALUE=DATE-TIME:20241212T180000
DESCRIPTION:Reminder for Free State Festival 2026 Lineup Announcement
END:VALARM
END:VEVENT
END:VCALENDAR