BEGIN:VCALENDAR
VERSION:2.0
CALSCALE:GREGORIAN
BEGIN:VEVENT
CREATED:20240822T155417Z
UID:14553
DTSTART;TZID=America/Chicago:20240908T130000
DTEND;TZID=America/Chicago:20240908T150000
DTSTAMP:20260423T085018Z
LOCATION:Lawrence Arts Center - 940 New Hampshire St.\, Lawrence\, Kansas 66044
DESCRIPTION:Drop in and make art! This free work-in-progress studio encourages students to bring in special projects to use the Arts Center's equipment, tools, materials, receive feedback from a Co-op mentor artist on in-progress artworks... or just hang out and make art!
SUMMARY:Free Teen Drop-In Studio
ORGANIZER:Lawrence Arts Center
URL;VALUE=URI:https://lawrenceartscenter.org/event/free-teen-drop-in-studio-3/
TRANSP:OPAQUE
BEGIN:VALARM
ACTION:DISPLAY
TRIGGER;VALUE=DATE-TIME:20240908T120000
DESCRIPTION:Reminder for Free State Festival 2026 Lineup Announcement
END:VALARM
END:VEVENT
END:VCALENDAR