BEGIN:VCALENDAR
VERSION:2.0
CALSCALE:GREGORIAN
BEGIN:VEVENT
CREATED:20240820T162243Z
UID:14541
DTSTART;TZID=America/Chicago:20240927T183000
DTEND;TZID=America/Chicago:20240927T200000
DTSTAMP:20260422T091304Z
LOCATION:Lawrence Arts Center - 940 New Hampshire St.\, Lawrence\, Kansas 66044
DESCRIPTION:<h6 data-pm-slice="1 1 []">ABOUT THE FILM</h6> <p data-pm-slice="1 1 []">As The Merc Co+op celebrates its 50th anniversary, enjoy this free screening of a documentary exploring the political and economic organizing efforts of a passionate group of people building an alternative food economy in Minneapolis in the 1970s — the same moment Lawrence's own co-op was forming.</p>
SUMMARY:Free Film Screening | The Merc Co+op presents: The Co-op Wars
ORGANIZER:Lawrence Arts Center
URL;VALUE=URI:https://lawrenceartscenter.org/event/free-film-screening-the-merc-coop-presents-the-co-op-wars/
TRANSP:OPAQUE
BEGIN:VALARM
ACTION:DISPLAY
TRIGGER;VALUE=DATE-TIME:20240927T173000
DESCRIPTION:Reminder for Free State Festival 2026 Lineup Announcement
END:VALARM
END:VEVENT
END:VCALENDAR