BEGIN:VCALENDAR
VERSION:2.0
CALSCALE:GREGORIAN
BEGIN:VEVENT
CREATED:20240820T155740Z
UID:14517
DTSTART;TZID=America/Chicago:20241006T170000
DTEND;TZID=America/Chicago:20241006T180000
DTSTAMP:20260422T105724Z
LOCATION:First United Methodist Church - 946 Vermont St. \, Lawrence \, KS 66044
DESCRIPTION:<h6>Pulling Out All The Stops Concert Series</h6> Melody in Motion, An Organ Benefit Concert featuring Dr. Tandy Reussner in collaboration with and benefitting The Lawrence Arts Center. The show will open with a fusion of Bach and Vivaldi with a dance performed by Claire Buss, Allison McNellis and Stephanie Wirth. Ric Averill will narrate “Peter and the Wolf” while there is a pantomime/dance from students from the School of Theatre & Music. Kent Smith, Blanca Herrada and Jeff Ridgway are the featured artists for “Pictures at an Exhibition”. If you wish to donate more than the cost of your ticket to the Lawrence Arts Center, click <a class="btn-secondary" href="https://www.ticketsignup.io/TicketEvent/MelodyInMotionOrganBenefitConcert/Donate">HERE.</a> All donations are tax-exempt to the full extent of the law. Please consult your tax advisor for more information. Doors open at 4:30 pm and are first-come, first-serve seats, except for VIP ticket holders. VIP ticket holders are invited to a meet-and-greet Pre-Concert Reception at 4 pm at First Church and will be entitled to premiere front row seating in the sanctuary.
SUMMARY:Melody in Motion, An Organ Benefit Concert for LAC
ORGANIZER:Lawrence Arts Center
URL;VALUE=URI:https://lawrenceartscenter.org/event/melody-in-motion-an-organ-benefit-concert-for-lac/
TRANSP:OPAQUE
BEGIN:VALARM
ACTION:DISPLAY
TRIGGER;VALUE=DATE-TIME:20241006T160000
DESCRIPTION:Reminder for Free State Festival 2026 Lineup Announcement
END:VALARM
END:VEVENT
END:VCALENDAR