BEGIN:VCALENDAR
VERSION:2.0
CALSCALE:GREGORIAN
BEGIN:VEVENT
CREATED:20240812T183254Z
UID:13350
DTSTART;TZID=America/Chicago:20241123T200000
DTEND;TZID=America/Chicago:20241123T210000
DTSTAMP:20260421T075959Z
LOCATION:Lawrence Arts Center - 940 New Hampshire Street\, Lawrence\, KS 66044
DESCRIPTION:<p data-pm-slice="1 1 []">Hosted by Courtney Farr, featuring students from the School of Theatre & Music Adult classes & local artists, enjoy an evening showcasing their hard work in Burlesque, Musical Theatre,  and Drag. Audience members must be 18+.</p> <p class="p1"><strong>Cabaret seating is available!<span class="Apple-converted-space"> </span></strong>Enjoy the show up close in our cabaret-style seating. Individual seats are available for purchase OR use promo code "ARTAD24" to purchase a table for 4 at a discount. <i>*4 seats must be selected for promo to be applied at checkout.</i></p>
SUMMARY:School of Theatre & Music presents Arts After Dark Adult Showcase
ORGANIZER:Lawrence Arts Center
URL;VALUE=URI:https://lawrenceartscenter.org/event/school-of-theatre-music-presents-arts-after-dark-adult-showcase/
TRANSP:OPAQUE
BEGIN:VALARM
ACTION:DISPLAY
TRIGGER;VALUE=DATE-TIME:20241123T190000
DESCRIPTION:Reminder for Free State Festival 2026 Lineup Announcement
END:VALARM
END:VEVENT
END:VCALENDAR