BEGIN:VCALENDAR
VERSION:2.0
CALSCALE:GREGORIAN
BEGIN:VEVENT
CREATED:20240812T182708Z
UID:13335
DTSTART;TZID=America/Chicago:20241109T193000
DTEND;TZID=America/Chicago:20241109T230000
DTSTAMP:20260425T114730Z
LOCATION:Lawrence Arts Center - 940 New Hampshire Street\, Lawrence\, KS 66044
DESCRIPTION:<p data-pm-slice="1 1 []">Join us as Kelley Hunt returns home to celebrate her 30 year career as a recording artist, on our Main Stage at the Lawrence Arts Center. Kelley is nationally and internationally recognized as an American blues pianist, singer, and songwriter. Her 2004 album, New Shade of Blue, peaked at number 9 in the Billboard Top Blues Albums chart. In 2006, Hunt was honored with induction into the prestigious Kansas Music Hall of Fame, a testament to her significant contributions to the music industry.</p> <p data-pm-slice="1 1 []">Doors open at 7 pm.</p> <p data-pm-slice="1 1 []"><strong>Cabaret seating is available! </strong>Enjoy the show up close in our cabaret-style seating. Individual seats are available for purchase OR use promo code "CABKELL24" to purchase a table for 4 at a discount. <i>*4 seats must be selected for promo to be applied at checkout.</i></p> <p data-pm-slice="1 1 []">Thursday, November 7 | Kelley Hunt will work with the Lawrence High School Choirs as a free Masterclass.</p> <p data-pm-slice="1 1 []">Friday, November 8 | Kelley will offer a <a class="btn-secondary" href="https://lawrenceartscenter.org/event/kelley-hunt-masterclass/">FREE Community Songwriting Workshop</a> on the Lawrence Arts Center Main Stage at 5 pm. This event is open to all. Limited space is available, please fill out this <a class="btn-secondary" href="https://docs.google.com/forms/d/e/1FAIpQLSczWhf-mWpXkGxq2ga5SJZpK3D_4jdMPuE4sgTHUYFqHxjaJA/viewform?usp=sf_link"><span style="color: #ff0000;">FORM</span></a> to register.</p>
SUMMARY:Downtown Underground Concert Series Kelley Hunt Comes Home
ORGANIZER:Lawrence Arts Center
URL;VALUE=URI:https://lawrenceartscenter.org/event/downtown-underground-concert-series-kelley-hunt-comes-home/
TRANSP:OPAQUE
BEGIN:VALARM
ACTION:DISPLAY
TRIGGER;VALUE=DATE-TIME:20241109T183000
DESCRIPTION:Reminder for Free State Festival 2026 Lineup Announcement
END:VALARM
END:VEVENT
END:VCALENDAR