BEGIN:VCALENDAR
VERSION:2.0
CALSCALE:GREGORIAN
BEGIN:VEVENT
CREATED:20240613T151620Z
UID:12974
DTSTART;TZID=America/Chicago:20240621T190000
DTEND;TZID=America/Chicago:20240621T201500
DTSTAMP:20260422T143041Z
LOCATION:10th & Mass Studios - 1000 Massachusetts St Suite D\, Lawrence\, Kansas 66044
DESCRIPTION:<p data-pm-slice="1 1 []">Join us for an exciting free event at the Lawrence Arts Center for “CONVERGE II: New Spaces." This dance performance features new works by four dynamic choreographers – Natasha Adorlee, Elaine Kimble, and directors Tristian Griffin and Regina Klenjoski with performances by Tristian Griffin Dance Company and Regina Klenjoski Dance Company. Following the performance, engage with the artists in an insightful talkback session.</p> <p data-pm-slice="1 1 []">Following the CONVERGE II performance, dancers in Lawrence have the opportunity to take a <a class="btn-secondary" href="https://lawrenceartscenter.org/event/master-class-with-tristian-griffin-regina-klenjoski/">Master Class with Tristian Griffin and Regina Klenjoski</a> on Saturday, June 22. Register <a class="btn-secondary" href="https://rkdc.org/converge/lawrence/">HERE!</a></p>
SUMMARY:CONVERGE II: New Spaces
ORGANIZER:Lawrence Arts Center
URL;VALUE=URI:https://lawrenceartscenter.org/event/converge-ii-new-spaces/
TRANSP:OPAQUE
BEGIN:VALARM
ACTION:DISPLAY
TRIGGER;VALUE=DATE-TIME:20240621T180000
DESCRIPTION:Reminder for Free State Festival 2026 Lineup Announcement
END:VALARM
END:VEVENT
END:VCALENDAR