BEGIN:VCALENDAR
VERSION:2.0
CALSCALE:GREGORIAN
BEGIN:VEVENT
CREATED:20240319T023645Z
UID:10445
DTSTART;TZID=America/Chicago:20240726T190000
DTEND;TZID=America/Chicago:20240727T190000
DTSTAMP:20260422T122513Z
LOCATION:Lawrence Arts Center - 940 New Hampshire St\, Lawrence\, KS 66044
DESCRIPTION:<div> <h6>Summer Youth Theatre Senior Musical</h6> Daring, provocative, and exuberantly entertaining, Cabaret explores the dark and heady life of Bohemian Berlin as Germany slowly yields to the emerging Third Reich. </div> <div> <em>Book by Joe Masteroff</em> </div> <div> <em>Based on the play by John Van Druten and</em> </div> <div> <em>Stories by Christopher Isherwood</em> </div> <div> <em>Music by John Kander Lyrics by Fred Ebb</em> </div> <div> <em>Originally Co-directed and Choreographed by Rob Marshall</em> </div> <div> <em>Originally Directed by Sam Mendes</em> </div> <div> <em>CABARET is presented by arrangement with Concord Theatricals on behalf of Tams-Witmark LLC. www.concordtheatricals.com</em> <strong>This show may include: </strong> <ul> <li>Flashing Lights</li> <li>Ground fog</li> <li>Loud noises</li> <li>Actors in the aisles</li> </ul> <strong>Content Warning:</strong> <ul> <li>Mature Content, discomforting situations</li> <li>Adult Language</li> <li>Alcohol, tobacco, drug references</li> </ul> </div>
SUMMARY:Cabaret
ORGANIZER:Lawrence Arts Center
URL;VALUE=URI:https://lawrenceartscenter.org/event/cabaret-2/
TRANSP:OPAQUE
BEGIN:VALARM
ACTION:DISPLAY
TRIGGER;VALUE=DATE-TIME:20240726T180000
DESCRIPTION:Reminder for Free State Festival 2026 Lineup Announcement
END:VALARM
END:VEVENT
END:VCALENDAR