BEGIN:VCALENDAR
VERSION:2.0
CALSCALE:GREGORIAN
BEGIN:VEVENT
CREATED:20240229T222904Z
UID:10326
DTSTART;TZID=America/Chicago:20240426T160000
DTEND;TZID=America/Chicago:20240510T210000
DTSTAMP:20260419T131331Z
LOCATION:Lawrence Arts Center Gallery - 940 New Hampshire St.\, Lawrence\, Kansas 66044
DESCRIPTION:<h6><strong>Hang12 | Transferred Inspiration: Breakthrough</strong></h6> <span style="font-weight: 400;">Curated by the Lawrence Arts Center’s teen curatorial collective, Hang12,</span><i><span style="font-weight: 400;"> Transferred Inspiration: Breakthrough</span></i><span style="font-weight: 400;"> highlights artwork created by Lawrence High School and Free State High School student artists in workshops inspired by the creative practices of Arts Center artists-in-residence Dehmie Dehmlow and Rachel Beer. After working alongside the residents at the Arts Center, students developed original works at school utilizing their newly learned skills and techniques. </span> <strong>DETAILS</strong> Final Friday Reception: Friday, April 26, 4-8 pm Vanguard Awards Presentation: Friday, April 26, 6:30-7:30 pm Open Studio Exploration: Friday, April 26, 4-6 pm | <span style="font-weight: 400;">Explore the studios to make art and meet the friendly faces that lead classes and programs at the Arts Center!</span>
SUMMARY:Hang12 | Transferred Inspiration: Breakthrough
ORGANIZER:Lawrence Arts Center
URL;VALUE=URI:https://lawrenceartscenter.org/event/hang12-transferred-inspiration-breakthrough/
TRANSP:OPAQUE
BEGIN:VALARM
ACTION:DISPLAY
TRIGGER;VALUE=DATE-TIME:20240426T150000
DESCRIPTION:Reminder for Free State Festival 2026 Lineup Announcement
END:VALARM
END:VEVENT
END:VCALENDAR